Workbook

Sheet Simulatore
N2: SERVIZIO IDRICO INTEGRATO
N3: Codice Fornitura | P3: xxxxxx
N4: Codice Soggetto | P4: xxxxx
N5: Fattura n | P5: xxx
N6: Del | P6: xxx
I15: TOTALE DA PAGARE | L15: XXXX
I16: SCADENZA | L16: XXXX | N16: NOMINATIVO RECAPITO
K17: INDIRIZZO
N18: CAP CITTA' - PROV.
I20: Pagamento e rateizzazione | N20: Dati fiscali
N21: Intestatario | O21: XXXXXX | AD21: descrizione breve tipo tariffa | AE21: descrizione estesa tipo tariffa | AG21: riferimenti matrici | AI21: NOTA BENE: per trovare rif.matrici il programma presume 43 righe ogni anno di tariffa. Altrimenti variare formula. | AL21: FOG/ DEP
I22: XXXXXXXXXXXXXX | N22: Domicilio | O22: XXXXXX | AD22: DOMESTICO RESIDENTE 1 componente | AE22: UTENZA DOMESTICA RESIDENTE CON 1 COMPONENTE | AG22: 2018 | AH22: =ADDRESS(AJ22+1,4,1,1,"Tariffe") -> Tariffe!$D$3 | AI22: =CONCATENATE(AH22,":$Af$",(1+AJ22+43)) -> Tariffe!$D$3:$Af$46 | AJ22: =MATCH(AG22,Tariffe!$D$1:D2000,0) -> 2 | AL22: SI
N23: Cap, città | O23: XXXXXX | AD23: DOMESTICO RESIDENTE 2 componenti | AE23: UTENZA DOMESTICA RESIDENTE CON 2 COMPONENTI | AG23: 2019 | AH23: =ADDRESS(AJ23+1,4,1,1,"Tariffe") -> Tariffe!$D$48 | AI23: =CONCATENATE(AH23,":$Af$",(1+AJ23+43)) -> Tariffe!$D$48:$Af$91 | AJ23: =MATCH(AG23,Tariffe!$D$1:D2001,0) -> 47 | AL23: NO
I24: Autolettura | N24: C.F./P.IVA | O24: XXXXXX | AD24: DOMESTICO RESIDENTE 3 componenti | AE24: UTENZA DOMESTICA RESIDENTE CON 3 COMPONENTI | AG24: 2020 | AH24: =ADDRESS(AJ24+1,4,1,1,"Tariffe") -> Tariffe!$D$93 | AI24: =CONCATENATE(AH24,":$Af$",(1+AJ24+43)) -> Tariffe!$D$93:$Af$136 | AJ24: =IFERROR(MATCH(AG24,Tariffe!$D$1:D2002,0),2) -> 92
AD25: DOMESTICO RESIDENTE 4 componenti | AE25: UTENZA DOMESTICA RESIDENTE CON 4 COMPONENTI | AG25: 2021 | AH25: =ADDRESS(AJ25+1,4,1,1,"Tariffe") -> Tariffe!$D$138 | AI25: =CONCATENATE(AH25,":$Af$",(1+AJ25+43)) -> Tariffe!$D$138:$Af$181 | AJ25: =IFERROR(MATCH(AG25,Tariffe!$D$1:D2003,0),2) -> 137
I26: XXXXXXXX | N26: Informazioni contrattuali | AD26: DOMESTICO RESIDENTE 5 componenti | AE26: UTENZA DOMESTICA RESIDENTE CON 5 COMPONENTI
AD27: DOMESTICO RESIDENTE 6 componenti | AE27: UTENZA DOMESTICA RESIDENTE CON 6 COMPONENTI | AG27: 2022 | AH27: =ADDRESS(AJ27+1,4,1,1,"Tariffe") -> Tariffe!$D$183 | AI27: =CONCATENATE(AH27,":$Af$",(1+AJ27+43)) -> Tariffe!$D$183:$Af$226 | AJ27: =IFERROR(MATCH(AG27,Tariffe!$D$1:D2004,0),2) -> 182
I28: Periodo | N28: Ubicazione fornitura | O28: xxxxxxxx | AD28: DOMESTICO RESIDENTE maggiore a 6 componenti | AE28: UTENZA DOMESTICA RESIDENTE CON 6 COMPONENTI | AG28: 2023 | AH28: =ADDRESS(AJ28+1,4,1,1,"Tariffe") -> Tariffe!$D$228 | AI28: =CONCATENATE(AH28,":$Af$",(1+AJ28+43)) -> Tariffe!$D$228:$Af$271 | AJ28: =IFERROR(MATCH(AG28,Tariffe!$D$1:D2005,0),2) -> 227
N29: Tipologia di utenza | O29: xxxxxxxx | AD29: DOMESTICO NON RESIDENTE | AE29: UTENZA DOMESTICA NON RESIDENTE | AG29: 2024 | AH29: =ADDRESS(AJ29+1,4,1,1,"Tariffe") -> Tariffe!$D$273 | AI29: =CONCATENATE(AH29,":$Af$",(1+AJ29+43)) -> Tariffe!$D$273:$Af$316 | AJ29: =IFERROR(MATCH(AG29,Tariffe!$D$1:D2006,0),2) -> 272
I30: DAL | K30: AL | N30: Tariffa applicata | O30: xxxxxxxx | AD30: A BASSA IDROESIGENZA DI PROCESSO (<1000) | AE30: A BASSA IDROESIGENZA DI PROCESSO (consumi STD < 1000 MC/ANNO) | AG30: 2025 | AH30: =ADDRESS(AJ30+1,4,1,1,"Tariffe") -> Tariffe!$D$318 | AI30: =CONCATENATE(AH30,":$Af$",(1+AJ30+43)) -> Tariffe!$D$318:$Af$361 | AJ30: =IFERROR(MATCH(AG30,Tariffe!$D$1:D2007,0),2) -> 317
N31: NR. Concessioni | P31: =IF(O32=0,"",IF(O31=SUM(O32:O40),"","TOTALE CONCESSIONI ERRATO")) | S31: Quota fissa | T31: Acquedotto | U31: Oneri perequazione | V31: Fognatura | W31: Depurazione | X31: Altre partite | Y31: Acconti Bollette Precedenti | Z31: Imputazione IVA | AA31: Somma imponibile | AB31: IVA | AC31: TOTALE (per tipologia concessione) | AD31: AD ALTA IDROESIGENZA DI PROCESSO (>1000) | AE31: AD ALTA IDROESIGENZA DI PROCESSO (consumi STD > 1000 MC/ANNO) | AG31: 2026 | AH31: =ADDRESS(AJ31+1,4,1,1,"Tariffe") -> Tariffe!$D$363 | AI31: =CONCATENATE(AH31,":$Af$",(1+AJ31+43)) -> Tariffe!$D$363:$Af$406 | AJ31: =IFERROR(MATCH(AG31,Tariffe!$D$1:D2008,0),2) -> 362
I32: Consumi Rilevati e Stimati | N32: Tipologia concessioni | S32: =+$R$50*O91 -> 0 | T32: =+$R$51*L91 -> 0 | U32: =+$R$52*P91 -> 0 | V32: =+$R$53*M91 -> 0 | W32: =IF($R$54=0,0,$R$54*N91) -> 0 | X32: =+$R$55*Q91 -> 0 | Y32: =+$R$56*Q91 -> 0 | Z32: =+$R$57*Q91 -> 0 | AA32: =+SUM(S32:W32)+Y32 -> 0 | AB32: =+AA32*10% -> 0 | AC32: =SUM(S32:Z32) -> 0 | AD32: AGR. COMM. USO IDRICO ESCLUSIVAM. CIVILE | AE32: ATTIVITA' CON USO IDRICO ESCLUSIVAMENTE CIVILE (idrotermosanitario) | AG32: 2027 | AH32: =ADDRESS(AJ32+1,4,1,1,"Tariffe") -> Tariffe!$D$3 | AI32: =CONCATENATE(AH32,":$Af$",(1+AJ32+43)) -> Tariffe!$D$3:$Af$46 | AJ32: =IFERROR(MATCH(AG32,Tariffe!$D$1:D2009,0),2) -> 2
C33: RIPARTIZIONE CONSUMI | N33: Tipologia concessioni | S33: =+$R$50*O92 -> 0 | T33: =+$R$51*L92 -> 0 | U33: =+$R$52*P92 -> 0 | V33: =+$R$53*M92 -> 0 | W33: =IF($R$54=0,0,$R$54*N92) -> 0 | X33: =+$R$55*Q92 -> 0 | Y33: =+$R$56*Q92 -> 0 | Z33: =+$R$57*Q92 -> 0 | AA33: =+SUM(S33:W33)+Y33 -> 0 | AB33: =+AA33*10% -> 0 | AC33: =SUM(S33:Z33) -> 0 | AD33: ALLACCIO TEMPORANEO PRIVATO | AE33: ALLACCI TEMPORANEI PRIVATI | AG33: 2028 | AH33: =ADDRESS(AJ33+1,4,1,1,"Tariffe") -> Tariffe!$D$3 | AI33: =CONCATENATE(AH33,":$Af$",(1+AJ33+43)) -> Tariffe!$D$3:$Af$46 | AJ33: =IFERROR(MATCH(AG33,Tariffe!$D$1:D2010,0),2) -> 2
I34: Matricola Contatore xxxxxxx | N34: Tipologia concessioni | S34: =+$R$50*O93 -> 0 | T34: =+$R$51*L93 -> 0 | U34: =+$R$52*P93 -> 0 | V34: =+$R$53*M93 -> 0 | W34: =IF($R$54=0,0,$R$54*N93) -> 0 | X34: =+$R$55*Q93 -> 0 | Y34: =+$R$56*Q93 -> 0 | Z34: =+$R$57*Q93 -> 0 | AA34: =+SUM(S34:W34)+Y34 -> 0 | AB34: =+AA34*10% -> 0 | AC34: =SUM(S34:Z34) -> 0 | AD34: ALLACCIO TEMPORANEO PUBBLICO | AE34: ALLACCI TEMPORANEI PUBBLICI | AG34: 2029 | AH34: =ADDRESS(AJ34+1,4,1,1,"Tariffe") -> Tariffe!$D$3 | AI34: =CONCATENATE(AH34,":$Af$",(1+AJ34+43)) -> Tariffe!$D$3:$Af$46 | AJ34: =IFERROR(MATCH(AG34,Tariffe!$D$1:D2011,0),2) -> 2
C35: INZIO PERIODO | D35: 42370 | I35: Tipologia contatore xxxxx | N35: Tipologia concessioni | S35: =+$R$50*O94 -> 0 | T35: =+$R$51*L94 -> 0 | U35: =+$R$52*P94 -> 0 | V35: =+$R$53*M94 -> 0 | W35: =IF($R$54=0,0,$R$54*N94) -> 0 | X35: =+$R$55*Q94 -> 0 | Y35: =+$R$56*Q94 -> 0 | Z35: =+$R$57*Q94 -> 0 | AA35: =+SUM(S35:W35)+Y35 -> 0 | AB35: =+AA35*10% -> 0 | AC35: =SUM(S35:Z35) -> 0 | AD35: ALTRO IMPIANTO SPORTIVO | AE35: ALTRI IMPIANTI SPORTIVI pubblici e privati | AG35: 2030 | AH35: =ADDRESS(AJ35+1,4,1,1,"Tariffe") -> Tariffe!$D$3 | AI35: =CONCATENATE(AH35,":$Af$",(1+AJ35+43)) -> Tariffe!$D$3:$Af$46 | AJ35: =IFERROR(MATCH(AG35,Tariffe!$D$1:D2012,0),2) -> 2
C36: FINE PERIODO | D36: 43861 | N36: Tipologia concessioni | S36: =+$R$50*O95 -> 0 | T36: =+$R$51*L95 -> 0 | U36: =+$R$52*P95 -> 0 | V36: =+$R$53*M95 -> 0 | W36: =IF($R$54=0,0,$R$54*N95) -> 0 | X36: =+$R$55*Q95 -> 0 | Y36: =+$R$56*Q95 -> 0 | Z36: =+$R$57*Q95 -> 0 | AA36: =+SUM(S36:W36)+Y36 -> 0 | AB36: =+AA36*10% -> 0 | AC36: =SUM(S36:Z36) -> 0 | AD36: ART. COMM. USO IDRICO ESCLUSIVAM. CIVILE | AE36: CON USO IDRICO ESCLUSIVAMENTE CIVILE (idrotermosanitario) | AG36: 2031 | AH36: =ADDRESS(AJ36+1,4,1,1,"Tariffe") -> Tariffe!$D$3 | AI36: =CONCATENATE(AH36,":$Af$",(1+AJ36+43)) -> Tariffe!$D$3:$Af$46 | AJ36: =IFERROR(MATCH(AG36,Tariffe!$D$1:D2013,0),2) -> 2
I37: Consumo rilevato | N37: Tipologia concessioni | S37: =+$R$50*O96 -> 0 | T37: =+$R$51*L96 -> 0 | U37: =+$R$52*P96 -> 0 | V37: =+$R$53*M96 -> 0 | W37: =IF($R$54=0,0,$R$54*N96) -> 0 | X37: =+$R$55*Q96 -> 0 | Y37: =+$R$56*Q96 -> 0 | Z37: =+$R$57*Q96 -> 0 | AA37: =+SUM(S37:W37)+Y37 -> 0 | AB37: =+AA37*10% -> 0 | AC37: =SUM(S37:Z37) -> 0 | AD37: ATT DIVERSE A BASSA IDROESIGENZA (<600) | AE37: ATTIVITA' DIVERSE A BASSA IDROESIGENZA DI PROCESSO (consumi STD < 600 MC/ANNO) | AG37: 2032 | AH37: =ADDRESS(AJ37+1,4,1,1,"Tariffe") -> Tariffe!$D$3 | AI37: =CONCATENATE(AH37,":$Af$",(1+AJ37+43)) -> Tariffe!$D$3:$Af$46 | AJ37: =IFERROR(MATCH(AG37,Tariffe!$D$1:D2014,0),2) -> 2
C38: CONSUMO | D38: 1065 | I38: Consumo stimato | N38: Tipologia concessioni | S38: =+$R$50*O97 -> 0 | T38: =+$R$51*L97 -> 0 | U38: =+$R$52*P97 -> 0 | V38: =+$R$53*M97 -> 0 | W38: =IF($R$54=0,0,$R$54*N97) -> 0 | X38: =+$R$55*Q97 -> 0 | Y38: =+$R$56*Q97 -> 0 | Z38: =+$R$57*Q97 -> 0 | AA38: =+SUM(S38:W38)+Y38 -> 0 | AB38: =+AA38*10% -> 0 | AC38: =SUM(S38:Z38) -> 0 | AD38: ATT DIVERSE AD ALTA IDROESIGENZA (>600) | AE38: ATTIVITA' DIVERSE AD ALTA IDROESIGENZA DI PROCESSO (consumi STD > 600 MC/ANNO) | AG38: 2033 | AH38: =ADDRESS(AJ38+1,4,1,1,"Tariffe") -> Tariffe!$D$3 | AI38: =CONCATENATE(AH38,":$Af$",(1+AJ38+43)) -> Tariffe!$D$3:$Af$46 | AJ38: =IFERROR(MATCH(AG38,Tariffe!$D$1:D2015,0),2) -> 2
N39: Tipologia concessioni | S39: =+$R$50*O98 -> 0 | T39: =+$R$51*L98 -> 0 | U39: =+$R$52*P98 -> 0 | V39: =+$R$53*M98 -> 0 | W39: =IF($R$54=0,0,$R$54*N98) -> 0 | X39: =+$R$55*Q98 -> 0 | Y39: =+$R$56*Q98 -> 0 | Z39: =+$R$57*Q98 -> 0 | AA39: =+SUM(S39:W39)+Y39 -> 0 | AB39: =+AA39*10% -> 0 | AC39: =SUM(S39:Z39) -> 0 | AD39: ATTIVITA' AGRITURISTICA | AE39: ATTIVITA' AGRITURISTICA | AG39: 2034 | AH39: =ADDRESS(AJ39+1,4,1,1,"Tariffe") -> Tariffe!$D$3 | AI39: =CONCATENATE(AH39,":$Af$",(1+AJ39+43)) -> Tariffe!$D$3:$Af$46 | AJ39: =IFERROR(MATCH(AG39,Tariffe!$D$1:D2016,0),2) -> 2
I40: Totale consumo fatturato | L40: =+L37+L38 -> 0 | N40: Tipologia concessioni | S40: =+$R$50*O99 -> 0 | T40: =+$R$51*L99 -> 0 | U40: =+$R$52*P99 -> 0 | V40: =+$R$53*M99 -> 0 | W40: =IF($R$54=0,0,$R$54*N99) -> 0 | X40: =+$R$55*Q99 -> 0 | Y40: =+$R$56*Q99 -> 0 | Z40: =+$R$57*Q99 -> 0 | AA40: =+SUM(S40:W40)+Y40 -> 0 | AB40: =+AA40*10% -> 0 | AC40: =SUM(S40:Z40) -> 0 | AD40: ATTIVITA' ALIMENTARE | AE40: ATTIVITA' ALIMENTARE (ortofrutta, pescheria, panifici, pasticcerie, gastronomie,…) | AG40: 2035 | AH40: =ADDRESS(AJ40+1,4,1,1,"Tariffe") -> Tariffe!$D$3 | AI40: =CONCATENATE(AH40,":$Af$",(1+AJ40+43)) -> Tariffe!$D$3:$Af$46 | AJ40: =IFERROR(MATCH(AG40,Tariffe!$D$1:D2017,0),2) -> 2
D41: 43100 | N41: Componenti residenti | AD41: ATTIVITA' AUTOLAVAGGIO | AE41: ATTIVITA' DI AUTOLAVAGGIO (anche con altre attività tipo distributore carburanti) | AG41: 2036 | AH41: =ADDRESS(AJ41+1,4,1,1,"Tariffe") -> Tariffe!$D$3 | AI41: =CONCATENATE(AH41,":$Af$",(1+AJ41+43)) -> Tariffe!$D$3:$Af$46 | AJ41: =IFERROR(MATCH(AG41,Tariffe!$D$1:D2018,0),2) -> 2
I42: Consumo medio annuo (CA) per il calcolo degli acconti | N42: Impianto depurazione | O42: =+IF($R$54<>0,"SI","NO") -> NO | S42: TOTALI | AD42: ATTIVITA' ESCLUSIVAMENTE AGRICOLA | AE42: ATTIVITA' ESCLUSIVAMENTE AGRICOLA | AG42: 2037 | AH42: =ADDRESS(AJ42+1,4,1,1,"Tariffe") -> Tariffe!$D$3 | AI42: =CONCATENATE(AH42,":$Af$",(1+AJ42+43)) -> Tariffe!$D$3:$Af$46 | AJ42: =IFERROR(MATCH(AG42,Tariffe!$D$1:D2019,0),2) -> 2
B43: =D38/(D36-D35)*IF(D35<D41,(D41-D35),0) -> 521 | F43: =IF(D35>D41,D38,D38-B43) -> 544 | N43: Impianto fognatura | O43: =+IF($R$53<>0,"SI","NO") -> NO | S43: =SUM(S32:S41) -> 0 | T43: =SUM(T32:T41) -> 0 | U43: =SUM(U32:U41) -> 0 | V43: =SUM(V32:V41) -> 0 | W43: =SUM(W32:W41) -> 0 | X43: =SUM(X32:X41) -> 0 | Y43: =SUM(Y32:Y41) -> 0 | Z43: =SUM(Z32:Z41) -> 0 | ... AC43: =SUM(AC32:AC41) -> 0 | AD43: ATTIVITA' ESTETICO-SANITARIA | AE43: ATTIVITA' ESTETICO-SANITARIE (parrucchiere, barbiere, estetista, palestra fitness, studio medico, dentistico-odontoiatrico…) | AG43: 2038 | AH43: =ADDRESS(AJ43+1,4,1,1,"Tariffe") -> Tariffe!$D$3 | AI43: =CONCATENATE(AH43,":$Af$",(1+AJ43+43)) -> Tariffe!$D$3:$Af$46 | AJ43: =IFERROR(MATCH(AG43,Tariffe!$D$1:D2020,0),2) -> 2
I44: Anno Corrente: xxxmc | N44: Deposito cauzionale | AD44: ATTIVITA' LAVANDERIA | AE44: ATTIVITA' DI LAVANDERIA | AG44: 2039 | AH44: =ADDRESS(AJ44+1,4,1,1,"Tariffe") -> Tariffe!$D$3 | AI44: =CONCATENATE(AH44,":$Af$",(1+AJ44+43)) -> Tariffe!$D$3:$Af$46 | AJ44: =IFERROR(MATCH(AG44,Tariffe!$D$1:D2021,0),2) -> 2
N45: Data inizio fornitura | O45: XXXX | AD45: ATTIVITA' RICETTIVA CON PISCINA | AE45: ATTIVITA' RICETTIVA CON PISCINA (albergo, residence, colonia, campeggio,... escluso agriturismo) ANCHE EXTRALBERGHIERA | AG45: 2040 | AH45: =ADDRESS(AJ45+1,4,1,1,"Tariffe") -> Tariffe!$D$3 | AI45: =CONCATENATE(AH45,":$Af$",(1+AJ45+43)) -> Tariffe!$D$3:$Af$46 | AJ45: =IFERROR(MATCH(AG45,Tariffe!$D$1:D2022,0),2) -> 2
I46: Numero di tentativi di lettura annui: xx | AD46: ATTIVITA' RICETTIVA SENZA PISCINA | AE46: ATTIVITA' RICETTIVA SENZA PISCINA (albergo, residence, colonia, campeggio,... escluso agriturismo) ANCHE EXTRALBERGHIERA | AG46: 2041 | AH46: =ADDRESS(AJ46+1,4,1,1,"Tariffe") -> Tariffe!$D$3 | AI46: =CONCATENATE(AH46,":$Af$",(1+AJ46+43)) -> Tariffe!$D$3:$Af$46 | AJ46: =IFERROR(MATCH(AG46,Tariffe!$D$1:D2023,0),2) -> 2
AD47: ATTIVITA' TRASFO.NE PRODOTTI ZOOTECNICI | AE47: ATTIVITA' DI TRASFORMAZIONI PRODOTTI AGRO-ZOOTECNICI | AG47: 2042 | AH47: =ADDRESS(AJ47+1,4,1,1,"Tariffe") -> Tariffe!$D$3 | AI47: =CONCATENATE(AH47,":$Af$",(1+AJ47+43)) -> Tariffe!$D$3:$Af$46 | AJ47: =IFERROR(MATCH(AG47,Tariffe!$D$1:D2024,0),2) -> 2
I48: Consumi stimati già fatturati nelle bollette precedenti: xx mc | N48: Riepilogo Importi della bolletta | AD48: ATTIVITA' ZOOTECNICA | AE48: ATTIVITA' ZOOTECNICA | AG48: 2043 | AH48: =ADDRESS(AJ48+1,4,1,1,"Tariffe") -> Tariffe!$D$3 | AI48: =CONCATENATE(AH48,":$Af$",(1+AJ48+43)) -> Tariffe!$D$3:$Af$46 | AJ48: =IFERROR(MATCH(AG48,Tariffe!$D$1:D2025,0),2) -> 2
AD49: CANTIERE EDILE | AE49: CANTIERI EDILI | AG49: 2044 | AH49: =ADDRESS(AJ49+1,4,1,1,"Tariffe") -> Tariffe!$D$3 | AI49: =CONCATENATE(AH49,":$Af$",(1+AJ49+43)) -> Tariffe!$D$3:$Af$46 | AJ49: =IFERROR(MATCH(AG49,Tariffe!$D$1:D2026,0),2) -> 2
N50: Quota fissa | AD50: CARCERE | AE50: carceri | AG50: 2045 | AH50: =ADDRESS(AJ50+1,4,1,1,"Tariffe") -> Tariffe!$D$3 | AI50: =CONCATENATE(AH50,":$Af$",(1+AJ50+43)) -> Tariffe!$D$3:$Af$46 | AJ50: =IFERROR(MATCH(AG50,Tariffe!$D$1:D2027,0),2) -> 2
...

Sheet Importi per tipo concessione
A1: IMPORTI IMPUTATI IN BASE ALLA TIPOLOGIA DI CONCESSIONE
A6: Nr. concessioni | B6: Tipologia concessione | C6: =Simulatore!S31 -> Quota fissa | D6: =Simulatore!T31 -> Acquedotto | E6: =Simulatore!U31 -> Oneri perequazione | F6: =Simulatore!V31 -> Fognatura | G6: =Simulatore!W31 -> Depurazione | H6: =Simulatore!X31 -> Altre partite | I6: =Simulatore!Y31 -> Acconti Bollette Precedenti | J6: =Simulatore!Z31 -> Imputazione IVA | K6: =Simulatore!AC31 -> TOTALE (per tipologia concessione)
A7: =Simulatore!O32 -> 0 | B7: =+Simulatore!P32 -> 0 | C7: =Simulatore!S32 -> 0 | D7: =Simulatore!T32 -> 0 | E7: =Simulatore!U32 -> 0 | F7: =Simulatore!V32 -> 0 | G7: =Simulatore!W32 -> 0 | H7: =Simulatore!X32 -> 0 | I7: =Simulatore!Y32 -> 0 | J7: =Simulatore!Z32 -> 0 | K7: =Simulatore!AC32 -> 0
A8: =Simulatore!O33 -> 0 | B8: =+Simulatore!P33 -> 0 | C8: =Simulatore!S33 -> 0 | D8: =Simulatore!T33 -> 0 | E8: =Simulatore!U33 -> 0 | F8: =Simulatore!V33 -> 0 | G8: =Simulatore!W33 -> 0 | H8: =Simulatore!X33 -> 0 | I8: =Simulatore!Y33 -> 0 | J8: =Simulatore!Z33 -> 0 | K8: =Simulatore!AC33 -> 0
A9: =Simulatore!O34 -> 0 | B9: =+Simulatore!P34 -> 0 | C9: =Simulatore!S34 -> 0 | D9: =Simulatore!T34 -> 0 | E9: =Simulatore!U34 -> 0 | F9: =Simulatore!V34 -> 0 | G9: =Simulatore!W34 -> 0 | H9: =Simulatore!X34 -> 0 | I9: =Simulatore!Y34 -> 0 | J9: =Simulatore!Z34 -> 0 | K9: =Simulatore!AC34 -> 0
A10: =Simulatore!O35 -> 0 | B10: =+Simulatore!P35 -> 0 | C10: =Simulatore!S35 -> 0 | D10: =Simulatore!T35 -> 0 | E10: =Simulatore!U35 -> 0 | F10: =Simulatore!V35 -> 0 | G10: =Simulatore!W35 -> 0 | H10: =Simulatore!X35 -> 0 | I10: =Simulatore!Y35 -> 0 | J10: =Simulatore!Z35 -> 0 | K10: =Simulatore!AC35 -> 0
A11: =Simulatore!O36 -> 0 | B11: =+Simulatore!P36 -> 0 | C11: =Simulatore!S36 -> 0 | D11: =Simulatore!T36 -> 0 | E11: =Simulatore!U36 -> 0 | F11: =Simulatore!V36 -> 0 | G11: =Simulatore!W36 -> 0 | H11: =Simulatore!X36 -> 0 | I11: =Simulatore!Y36 -> 0 | J11: =Simulatore!Z36 -> 0 | K11: =Simulatore!AC36 -> 0
A12: =Simulatore!O37 -> 0 | B12: =+Simulatore!P37 -> 0 | C12: =Simulatore!S37 -> 0 | D12: =Simulatore!T37 -> 0 | E12: =Simulatore!U37 -> 0 | F12: =Simulatore!V37 -> 0 | G12: =Simulatore!W37 -> 0 | H12: =Simulatore!X37 -> 0 | I12: =Simulatore!Y37 -> 0 | J12: =Simulatore!Z37 -> 0 | K12: =Simulatore!AC37 -> 0
A13: =Simulatore!O38 -> 0 | B13: =+Simulatore!P38 -> 0 | C13: =Simulatore!S38 -> 0 | D13: =Simulatore!T38 -> 0 | E13: =Simulatore!U38 -> 0 | F13: =Simulatore!V38 -> 0 | G13: =Simulatore!W38 -> 0 | H13: =Simulatore!X38 -> 0 | I13: =Simulatore!Y38 -> 0 | J13: =Simulatore!Z38 -> 0 | K13: =Simulatore!AC38 -> 0
A14: =Simulatore!O39 -> 0 | B14: =+Simulatore!P39 -> 0 | C14: =Simulatore!S39 -> 0 | D14: =Simulatore!T39 -> 0 | E14: =Simulatore!U39 -> 0 | F14: =Simulatore!V39 -> 0 | G14: =Simulatore!W39 -> 0 | H14: =Simulatore!X39 -> 0 | I14: =Simulatore!Y39 -> 0 | J14: =Simulatore!Z39 -> 0 | K14: =Simulatore!AC39 -> 0
A15: =Simulatore!O40 -> 0 | B15: =+Simulatore!P40 -> 0 | C15: =Simulatore!S40 -> 0 | D15: =Simulatore!T40 -> 0 | E15: =Simulatore!U40 -> 0 | F15: =Simulatore!V40 -> 0 | G15: =Simulatore!W40 -> 0 | H15: =Simulatore!X40 -> 0 | I15: =Simulatore!Y40 -> 0 | J15: =Simulatore!Z40 -> 0 | K15: =Simulatore!AC40 -> 0
A17: =Simulatore!S42 -> TOTALI
A18: =SUM(A7:A16) -> 0 | C18: =Simulatore!S43 -> 0 | D18: =Simulatore!T43 -> 0 | E18: =Simulatore!U43 -> 0 | F18: =Simulatore!V43 -> 0 | G18: =Simulatore!W43 -> 0 | H18: =Simulatore!X43 -> 0 | I18: =Simulatore!Y43 -> 0 | J18: =Simulatore!Z43 -> 0 | K18: =Simulatore!AC43 -> 0

Sheet Tariffe
A1: DESCRIZIONE | B1: TIPOLOGIA UTENZA | C1: SOTTO TIPOLOGIA | D1: DESCRIZIONE | E1: VOLUME AGEVOLATA | F1: VOLUME BASE | G1: VOLUME 1^ecc | H1: VOLUME 2^ecc | I1: VOLUME 3^ecc | J1: tariffa agevolata | K1: tariffa base | L1: tariffa 1^ecc | M1: tariffa 2^ecc | N1: tariffa 3^ecc | O1: quota fissa ACQ | P1: quota fissa FOGN | Q1: quota fissa DEP | R1: tariffa FOGN | S1: tariffa DEP | T1: tariffa agevolata | U1: tariffa base | V1: tariffa 1^ecc | W1: tariffa 2^ecc | X1: tariffa 3^ecc | Y1: quota fissa ACQ | Z1: quota fissa FOGN | AA1: quota fissa DEP | AB1: tariffa FOGN | AC1: tariffa DEP | AD1: UI1 acq/fog/ dep | AE1: UI2 + UI4 (2020) acq/fog/ dep | AF1: UI3 solo acquedotto
D2: 2018 | T2: ADDIZIONALE | V2: 0.1228 | AD2: UI
A3: UTENZA DOMESTICA | B3: USI DOMESTICI | C3: a.1.1 | D3: UTENZA DOMESTICA RESIDENTE CON 1 COMPONENTE | E3: 55 | F3: 77 | G3: 99 | H3: 121 | I3: 100000121 | J3: 0.36 | K3: 0.72 | L3: 0.96 | M3: 1.42 | N3: 1.6 | O3: 26.1 | P3: 0.5 | Q3: 0.5 | R3: 0.33 | S3: 0.62 | T3: =+J3*$V$2 -> 0.044208 | U3: =+K3*$V$2 -> 0.088416 | V3: =+L3*$V$2 -> 0.117888 | W3: =+M3*$V$2 -> 0.174376 | X3: =+N3*$V$2 -> 0.19648 | Y3: =+O3*$V$2 -> 3.20508 | Z3: =+P3*$V$2 -> 0.0614 | AA3: =+Q3*$V$2 -> 0.0614 | ... AC3: =+S3*$V$2 -> 0.076136 | AD3: 0.004 | AE3: 0.009 | AF3: 0.005
C4: a.1.2 | D4: UTENZA DOMESTICA RESIDENTE CON 2 COMPONENTI | E4: 90 | F4: 126 | G4: 162 | H4: 198 | I4: 100000198 | J4: 0.36 | K4: 0.72 | L4: 0.96 | M4: 1.42 | N4: 1.6 | O4: 26.1 | P4: 0.5 | Q4: 0.5 | R4: 0.33 | S4: 0.62 | T4: =+J4*$V$2 -> 0.044208 | U4: =+K4*$V$2 -> 0.088416 | V4: =+L4*$V$2 -> 0.117888 | W4: =+M4*$V$2 -> 0.174376 | X4: =+N4*$V$2 -> 0.19648 | Y4: =+O4*$V$2 -> 3.20508 | Z4: =+P4*$V$2 -> 0.0614 | AA4: =+Q4*$V$2 -> 0.0614 | ... AC4: =+S4*$V$2 -> 0.076136 | AD4: 0.004 | AE4: 0.009 | AF4: 0.005
C5: a.1.3 | D5: UTENZA DOMESTICA RESIDENTE CON 3 COMPONENTI | E5: 124 | F5: 174 | G5: 224 | H5: 274 | I5: 100000274 | J5: 0.36 | K5: 0.72 | L5: 0.96 | M5: 1.42 | N5: 1.6 | O5: 26.1 | P5: 0.5 | Q5: 0.5 | R5: 0.33 | S5: 0.62 | T5: =+J5*$V$2 -> 0.044208 | U5: =+K5*$V$2 -> 0.088416 | V5: =+L5*$V$2 -> 0.117888 | W5: =+M5*$V$2 -> 0.174376 | X5: =+N5*$V$2 -> 0.19648 | Y5: =+O5*$V$2 -> 3.20508 | Z5: =+P5*$V$2 -> 0.0614 | AA5: =+Q5*$V$2 -> 0.0614 | ... AC5: =+S5*$V$2 -> 0.076136 | AD5: 0.004 | AE5: 0.009 | AF5: 0.005
C6: a.1.4 | D6: UTENZA DOMESTICA RESIDENTE CON 4 COMPONENTI | E6: 160 | F6: 224 | G6: 288 | H6: 352 | I6: 100000352 | J6: 0.36 | K6: 0.72 | L6: 0.96 | M6: 1.42 | N6: 1.6 | O6: 26.1 | P6: 0.5 | Q6: 0.5 | R6: 0.33 | S6: 0.62 | T6: =+J6*$V$2 -> 0.044208 | U6: =+K6*$V$2 -> 0.088416 | V6: =+L6*$V$2 -> 0.117888 | W6: =+M6*$V$2 -> 0.174376 | X6: =+N6*$V$2 -> 0.19648 | Y6: =+O6*$V$2 -> 3.20508 | Z6: =+P6*$V$2 -> 0.0614 | AA6: =+Q6*$V$2 -> 0.0614 | ... AC6: =+S6*$V$2 -> 0.076136 | AD6: 0.004 | AE6: 0.009 | AF6: 0.005
C7: a.1.5 | D7: UTENZA DOMESTICA RESIDENTE CON 5 COMPONENTI | E7: 195 | F7: 273 | G7: 351 | H7: 429 | I7: 100000429 | J7: 0.36 | K7: 0.72 | L7: 0.96 | M7: 1.42 | N7: 1.6 | O7: 26.1 | P7: 0.5 | Q7: 0.5 | R7: 0.33 | S7: 0.62 | T7: =+J7*$V$2 -> 0.044208 | U7: =+K7*$V$2 -> 0.088416 | V7: =+L7*$V$2 -> 0.117888 | W7: =+M7*$V$2 -> 0.174376 | X7: =+N7*$V$2 -> 0.19648 | Y7: =+O7*$V$2 -> 3.20508 | Z7: =+P7*$V$2 -> 0.0614 | AA7: =+Q7*$V$2 -> 0.0614 | ... AC7: =+S7*$V$2 -> 0.076136 | AD7: 0.004 | AE7: 0.009 | AF7: 0.005
C8: a.1.6 | D8: UTENZA DOMESTICA RESIDENTE CON 6 COMPONENTI | E8: 230 | F8: 322 | G8: 414 | H8: 506 | I8: 100000506 | J8: 0.36 | K8: 0.72 | L8: 0.96 | M8: 1.42 | N8: 1.6 | O8: 26.1 | P8: 0.5 | Q8: 0.5 | R8: 0.33 | S8: 0.62 | T8: =+J8*$V$2 -> 0.044208 | U8: =+K8*$V$2 -> 0.088416 | V8: =+L8*$V$2 -> 0.117888 | W8: =+M8*$V$2 -> 0.174376 | X8: =+N8*$V$2 -> 0.19648 | Y8: =+O8*$V$2 -> 3.20508 | Z8: =+P8*$V$2 -> 0.0614 | AA8: =+Q8*$V$2 -> 0.0614 | ... AC8: =+S8*$V$2 -> 0.076136 | AD8: 0.004 | AE8: 0.009 | AF8: 0.005
C9: a.2 | D9: UTENZA DOMESTICA NON RESIDENTE | E9: 24 | F9: 55 | G9: 77 | H9: 99 | I9: 10000099 | J9: 0.36 | K9: 0.72 | L9: 0.96 | M9: 1.42 | N9: 1.6 | O9: 83.8 | P9: =0.5*2 -> 1 | Q9: 1 | R9: 0.33 | S9: 0.62 | T9: =+J9*$V$2 -> 0.044208 | U9: =+K9*$V$2 -> 0.088416 | V9: =+L9*$V$2 -> 0.117888 | W9: =+M9*$V$2 -> 0.174376 | X9: =+N9*$V$2 -> 0.19648 | Y9: =+O9*$V$2 -> 10.29064 | Z9: =+P9*$V$2 -> 0.1228 | AA9: =+Q9*$V$2 -> 0.1228 | ... AC9: =+S9*$V$2 -> 0.076136 | AD9: 0.004 | AE9: 0.009 | AF9: 0.005
C10: a.3 | D10: UTENZA SERVIZI COMUNI DI CONDOMINIO (SCALE, GIARDINO, SCANTINATI,...) E PERTINENZE (GARAGE, CANTINA,…) | E10: 124 | F10: 174 | G10: 224 | H10: 274 | I10: 100000274 | J10: 0.36 | K10: 0.72 | L10: 0.96 | M10: 1.42 | N10: 1.6 | O10: 26.1 | P10: 0.5 | Q10: 0.5 | R10: 0.33 | S10: 0.62 | T10: =+J10*$V$2 -> 0.044208 | U10: =+K10*$V$2 -> 0.088416 | V10: =+L10*$V$2 -> 0.117888 | W10: =+M10*$V$2 -> 0.174376 | X10: =+N10*$V$2 -> 0.19648 | Y10: =+O10*$V$2 -> 3.20508 | Z10: =+P10*$V$2 -> 0.0614 | AA10: =+Q10*$V$2 -> 0.0614 | ... AC10: =+S10*$V$2 -> 0.076136 | AD10: 0.004 | AE10: 0.009 | AF10: 0.005
A11: PRODUTTIVA SECONDARIA (USO INDUSTRIALE) | B11: UTENZA PRODUTTIVA SECONDARIA (USO INDUSTRIALE) | C11: b.1 | D11: CON USO IDRICO ESCLUSIVAMENTE CIVILE prod (idrotermosanitario) | E11: 0 | F11: 100 | G11: 200 | H11: 300 | I11: 100000300 | J11: 0 | K11: 0.85 | L11: 0.96 | M11: 1.42 | N11: 1.6 | O11: 41.9 | P11: 0.5 | Q11: 0.5 | R11: 0.33 | S11: 0.62 | U11: =+K11*$V$2 -> 0.10438 | V11: =+L11*$V$2 -> 0.117888 | W11: =+M11*$V$2 -> 0.174376 | X11: =+N11*$V$2 -> 0.19648 | Y11: =+O11*$V$2 -> 5.14532 | Z11: =+P11*$V$2 -> 0.0614 | AA11: =+Q11*$V$2 -> 0.0614 | AB11: =+R11*$V$2 -> 0.040524 | AC11: =+S11*$V$2 -> 0.076136 | AD11: 0.004 | AE11: 0.009 | AF11: 0.005
C12: b.2 | D12: A BASSA IDROESIGENZA DI PROCESSO (consumi STD < 1000 MC/ANNO) | E12: 0 | F12: 200 | G12: 400 | H12: 600 | I12: 100000600 | J12: 0 | K12: 0.85 | L12: 0.96 | M12: 1.42 | N12: 1.6 | O12: 41.9 | P12: 0.5 | Q12: 0.5 | R12: 0.33 | S12: 0.62 | U12: =+K12*$V$2 -> 0.10438 | V12: =+L12*$V$2 -> 0.117888 | W12: =+M12*$V$2 -> 0.174376 | X12: =+N12*$V$2 -> 0.19648 | Y12: =+O12*$V$2 -> 5.14532 | Z12: =+P12*$V$2 -> 0.0614 | AA12: =+Q12*$V$2 -> 0.0614 | AB12: =+R12*$V$2 -> 0.040524 | AC12: =+S12*$V$2 -> 0.076136 | AD12: 0.004 | AE12: 0.009 | AF12: 0.005
C13: b.3 | D13: AD ALTA IDROESIGENZA DI PROCESSO (consumi STD > 1000 MC/ANNO) | E13: 0 | F13: 1000 | G13: 20000 | H13: 50000 | I13: 10000050000 | J13: 0 | K13: 1.42 | L13: 1.6 | M13: 1.7 | N13: 1.8 | O13: =41.9*2 -> 83.8 | P13: =0.5*2 -> 1 | Q13: 1 | R13: 0.33 | S13: 0.62 | U13: =+K13*$V$2 -> 0.174376 | V13: =+L13*$V$2 -> 0.19648 | W13: =+M13*$V$2 -> 0.20876 | X13: =+N13*$V$2 -> 0.22104 | Y13: =+O13*$V$2 -> 10.29064 | Z13: =+P13*$V$2 -> 0.1228 | AA13: =+Q13*$V$2 -> 0.1228 | AB13: =+R13*$V$2 -> 0.040524 | AC13: =+S13*$V$2 -> 0.076136 | AD13: 0.004 | AE13: 0.009 | AF13: 0.005
A14: PRODUTTIVA TERZIARIA (USO ARTIGIANALE E COMMERCIALE) | B14: UTENZA PRODUTTIVA TERZIARIA (USO ARTIGIANALE E COMMERCIALE) | C14: c1 | D14: CON USO IDRICO ESCLUSIVAMENTE CIVILE (idrotermosanitario) | E14: 0 | F14: 200 | G14: 250 | H14: 300 | I14: 100000300 | J14: 0 | K14: 0.85 | L14: 0.96 | M14: 1.42 | N14: 1.6 | O14: 41.9 | P14: 0.5 | Q14: 0.5 | R14: 0.33 | S14: 0.62 | U14: =+K14*$V$2 -> 0.10438 | V14: =+L14*$V$2 -> 0.117888 | W14: =+M14*$V$2 -> 0.174376 | X14: =+N14*$V$2 -> 0.19648 | Y14: =+O14*$V$2 -> 5.14532 | Z14: =+P14*$V$2 -> 0.0614 | AA14: =+Q14*$V$2 -> 0.0614 | AB14: =+R14*$V$2 -> 0.040524 | AC14: =+S14*$V$2 -> 0.076136 | AD14: 0.004 | AE14: 0.009 | AF14: 0.005
C15: c.2 | D15: ATTIVITA' ALIMENTARE (ortofrutta, pescheria, panifici, pasticcerie, gastronomie,…) | E15: 0 | F15: 200 | G15: 400 | H15: 600 | I15: 100000600 | J15: 0 | K15: 0.85 | L15: 0.96 | M15: 1.42 | N15: 1.6 | O15: 41.9 | P15: 0.5 | Q15: 0.5 | R15: 0.33 | S15: 0.62 | U15: =+K15*$V$2 -> 0.10438 | V15: =+L15*$V$2 -> 0.117888 | W15: =+M15*$V$2 -> 0.174376 | X15: =+N15*$V$2 -> 0.19648 | Y15: =+O15*$V$2 -> 5.14532 | Z15: =+P15*$V$2 -> 0.0614 | AA15: =+Q15*$V$2 -> 0.0614 | AB15: =+R15*$V$2 -> 0.040524 | AC15: =+S15*$V$2 -> 0.076136 | AD15: 0.004 | AE15: 0.009 | AF15: 0.005
C16: c.3 | D16: PUBBLICO ESERCIZIO (bar, pub, ristorante, trattoria, mensa,…) | E16: 0 | F16: 200 | G16: 400 | H16: 600 | I16: 100000600 | J16: 0 | K16: 0.85 | L16: 0.96 | M16: 1.42 | N16: 1.6 | O16: 41.9 | P16: 0.5 | Q16: 0.5 | R16: 0.33 | S16: 0.62 | U16: =+K16*$V$2 -> 0.10438 | V16: =+L16*$V$2 -> 0.117888 | W16: =+M16*$V$2 -> 0.174376 | X16: =+N16*$V$2 -> 0.19648 | Y16: =+O16*$V$2 -> 5.14532 | Z16: =+P16*$V$2 -> 0.0614 | AA16: =+Q16*$V$2 -> 0.0614 | AB16: =+R16*$V$2 -> 0.040524 | AC16: =+S16*$V$2 -> 0.076136 | AD16: 0.004 | AE16: 0.009 | AF16: 0.005
C17: c.4 | D17: ATTIVITA' RICETTIVA SENZA PISCINA (albergo, residence, colonia, campeggio,... escluso agriturismo) ANCHE EXTRALBERGHIERA | E17: 0 | F17: 400 | G17: 600 | H17: 800 | I17: 100000800 | J17: 0 | K17: 0.85 | L17: 0.96 | M17: 1.42 | N17: 1.6 | O17: 41.9 | P17: 0.5 | Q17: 0.5 | R17: 0.33 | S17: 0.62 | U17: =+K17*$V$2 -> 0.10438 | V17: =+L17*$V$2 -> 0.117888 | W17: =+M17*$V$2 -> 0.174376 | X17: =+N17*$V$2 -> 0.19648 | Y17: =+O17*$V$2 -> 5.14532 | Z17: =+P17*$V$2 -> 0.0614 | AA17: =+Q17*$V$2 -> 0.0614 | AB17: =+R17*$V$2 -> 0.040524 | AC17: =+S17*$V$2 -> 0.076136 | AD17: 0.004 | AE17: 0.009 | AF17: 0.005
C18: c.5 | D18: ATTIVITA' RICETTIVA CON PISCINA (albergo, residence, colonia, campeggio,... escluso agriturismo) ANCHE EXTRALBERGHIERA | E18: 0 | F18: 800 | G18: 1200 | H18: 1600 | I18: 1000001600 | J18: 0 | K18: 0.85 | L18: 0.96 | M18: 1.42 | N18: 1.6 | O18: =41.9*2 -> 83.8 | P18: 1 | Q18: 1 | R18: 0.33 | S18: 0.62 | U18: =+K18*$V$2 -> 0.10438 | V18: =+L18*$V$2 -> 0.117888 | W18: =+M18*$V$2 -> 0.174376 | X18: =+N18*$V$2 -> 0.19648 | Y18: =+O18*$V$2 -> 10.29064 | Z18: =+P18*$V$2 -> 0.1228 | AA18: =+Q18*$V$2 -> 0.1228 | AB18: =+R18*$V$2 -> 0.040524 | AC18: =+S18*$V$2 -> 0.076136 | AD18: 0.004 | AE18: 0.009 | AF18: 0.005
C19: c.6 | D19: ATTIVITA' ESTETICO-SANITARIE (parrucchiere, barbiere, estetista, palestra fitness, studio medico, dentistico-odontoiatrico…) | E19: 0 | F19: 200 | G19: 400 | H19: 800 | I19: 100000800 | J19: 0 | K19: 0.85 | L19: 0.96 | M19: 1.42 | N19: 1.6 | O19: 41.9 | P19: 0.5 | Q19: 0.5 | R19: 0.33 | S19: 0.62 | U19: =+K19*$V$2 -> 0.10438 | V19: =+L19*$V$2 -> 0.117888 | W19: =+M19*$V$2 -> 0.174376 | X19: =+N19*$V$2 -> 0.19648 | Y19: =+O19*$V$2 -> 5.14532 | Z19: =+P19*$V$2 -> 0.0614 | AA19: =+Q19*$V$2 -> 0.0614 | AB19: =+R19*$V$2 -> 0.040524 | AC19: =+S19*$V$2 -> 0.076136 | AD19: 0.004 | AE19: 0.009 | AF19: 0.005
C20: c.7 | D20: ATTIVITA' DI LAVANDERIA | E20: 0 | F20: 200 | G20: 400 | H20: 800 | I20: 100000800 | J20: 0 | K20: 0.96 | L20: 1.42 | M20: 1.6 | N20: 1.7 | O20: 41.9 | P20: 0.5 | Q20: 0.5 | R20: 0.33 | S20: 0.62 | U20: =+K20*$V$2 -> 0.117888 | V20: =+L20*$V$2 -> 0.174376 | W20: =+M20*$V$2 -> 0.19648 | X20: =+N20*$V$2 -> 0.20876 | Y20: =+O20*$V$2 -> 5.14532 | Z20: =+P20*$V$2 -> 0.0614 | AA20: =+Q20*$V$2 -> 0.0614 | AB20: =+R20*$V$2 -> 0.040524 | AC20: =+S20*$V$2 -> 0.076136 | AD20: 0.004 | AE20: 0.009 | AF20: 0.005
C21: c.8 | D21: ATTIVITA' DI AUTOLAVAGGIO (anche con altre attività tipo distributore carburanti) | E21: 0 | F21: 200 | G21: 400 | H21: 800 | I21: 100000800 | J21: 0 | K21: 0.96 | L21: 1.42 | M21: 1.6 | N21: 1.7 | O21: =41.9*2 -> 83.8 | P21: 1 | Q21: 1 | R21: 0.33 | S21: 0.62 | U21: =+K21*$V$2 -> 0.117888 | V21: =+L21*$V$2 -> 0.174376 | W21: =+M21*$V$2 -> 0.19648 | X21: =+N21*$V$2 -> 0.20876 | Y21: =+O21*$V$2 -> 10.29064 | Z21: =+P21*$V$2 -> 0.1228 | AA21: =+Q21*$V$2 -> 0.1228 | AB21: =+R21*$V$2 -> 0.040524 | AC21: =+S21*$V$2 -> 0.076136 | AD21: 0.004 | AE21: 0.009 | AF21: 0.005
C22: c.9 | D22: ATTIVITA' DIVERSE A BASSA IDROESIGENZA DI PROCESSO (consumi STD < 600 MC/ANNO) | E22: 0 | F22: 200 | G22: 300 | H22: 400 | I22: 100000400 | J22: 0 | K22: 0.85 | L22: 0.96 | M22: 1.42 | N22: 1.6 | O22: 41.9 | P22: 0.5 | Q22: 0.5 | R22: 0.33 | S22: 0.62 | U22: =+K22*$V$2 -> 0.10438 | V22: =+L22*$V$2 -> 0.117888 | W22: =+M22*$V$2 -> 0.174376 | X22: =+N22*$V$2 -> 0.19648 | Y22: =+O22*$V$2 -> 5.14532 | Z22: =+P22*$V$2 -> 0.0614 | AA22: =+Q22*$V$2 -> 0.0614 | AB22: =+R22*$V$2 -> 0.040524 | AC22: =+S22*$V$2 -> 0.076136 | AD22: 0.004 | AE22: 0.009 | AF22: 0.005
C23: c.10 | D23: ATTIVITA' DIVERSE AD ALTA IDROESIGENZA DI PROCESSO (consumi STD > 600 MC/ANNO) | E23: 0 | F23: 500 | G23: 750 | H23: 1000 | I23: 1000001000 | J23: 0 | K23: 0.96 | L23: 1.42 | M23: 1.6 | N23: 1.7 | O23: =41.9*2 -> 83.8 | P23: 1 | Q23: 1 | R23: 0.33 | S23: 0.62 | U23: =+K23*$V$2 -> 0.117888 | V23: =+L23*$V$2 -> 0.174376 | W23: =+M23*$V$2 -> 0.19648 | X23: =+N23*$V$2 -> 0.20876 | Y23: =+O23*$V$2 -> 10.29064 | Z23: =+P23*$V$2 -> 0.1228 | AA23: =+Q23*$V$2 -> 0.1228 | AB23: =+R23*$V$2 -> 0.040524 | AC23: =+S23*$V$2 -> 0.076136 | AD23: 0.004 | AE23: 0.009 | AF23: 0.005
A24: PRODUTTIVA PRIMARIA (USO AGRICOLO E ZOOTECNICO) | B24: UTENZA PRODUTTIVA PRIMARIA (USO AGRICOLO E ZOOTECNICO) | C24: d.1 | D24: ATTIVITA' CON USO IDRICO ESCLUSIVAMENTE CIVILE (idrotermosanitario) | E24: 0 | F24: 100 | G24: 200 | H24: 300 | I24: 100000300 | J24: 0 | K24: 0.85 | L24: 0.96 | M24: 1.42 | N24: 1.6 | O24: 26.1 | P24: 0.5 | Q24: 0.5 | R24: 0.33 | S24: 0.62 | U24: =+K24*$V$2 -> 0.10438 | V24: =+L24*$V$2 -> 0.117888 | W24: =+M24*$V$2 -> 0.174376 | X24: =+N24*$V$2 -> 0.19648 | Y24: =+O24*$V$2 -> 3.20508 | Z24: =+P24*$V$2 -> 0.0614 | AA24: =+Q24*$V$2 -> 0.0614 | AB24: =+R24*$V$2 -> 0.040524 | AC24: =+S24*$V$2 -> 0.076136 | AD24: 0.004 | AE24: 0.009 | AF24: 0.005
C25: d.2 | D25: ATTIVITA' AGRITURISTICA | E25: 0 | F25: 800 | G25: 100000800 | H25: 100000800 | I25: 100000800 | J25: 0 | K25: 0.36 | L25: 0.72 | M25: 0 | N25: 0 | O25: 26.1 | P25: 0.5 | Q25: 0.5 | R25: 0.33 | S25: 0.62 | U25: =+K25*$V$2 -> 0.044208 | V25: =+L25*$V$2 -> 0.088416 | Y25: =+O25*$V$2 -> 3.20508 | Z25: =+P25*$V$2 -> 0.0614 | AA25: =+Q25*$V$2 -> 0.0614 | AB25: =+R25*$V$2 -> 0.040524 | AC25: =+S25*$V$2 -> 0.076136 | AD25: 0.004 | AE25: 0.009 | AF25: 0.005
C26: d.3 | D26: UTENZA RURALE CON USO IDRICO STAGIONALE ESCLUSIVAMENTE CIVILE (idrotermosanitario) | E26: 0 | F26: 24 | G26: 55 | H26: 77 | I26: 10000077 | J26: 0 | K26: 0.36 | L26: 0.72 | M26: 0.96 | N26: 1.42 | O26: 26.1 | P26: 0.5 | Q26: 0.5 | R26: 0.33 | S26: 0.62 | U26: =+K26*$V$2 -> 0.044208 | V26: =+L26*$V$2 -> 0.088416 | W26: =+M26*$V$2 -> 0.117888 | X26: =+N26*$V$2 -> 0.174376 | Y26: =+O26*$V$2 -> 3.20508 | Z26: =+P26*$V$2 -> 0.0614 | AA26: =+Q26*$V$2 -> 0.0614 | AB26: =+R26*$V$2 -> 0.040524 | AC26: =+S26*$V$2 -> 0.076136 | AD26: 0.004 | AE26: 0.009 | AF26: 0.005
C27: d.4 | D27: ATTIVITA' ESCLUSIVAMENTE AGRICOLA | E27: 0 | F27: 5000 | G27: 1000005000 | H27: 1000005000 | I27: 1000005000 | J27: 0 | K27: 0.36 | L27: 0.72 | M27: 0 | N27: 0 | O27: 26.1 | P27: 0.5 | Q27: 0.5 | R27: 0.33 | S27: 0.62 | U27: =+K27*$V$2 -> 0.044208 | V27: =+L27*$V$2 -> 0.088416 | Y27: =+O27*$V$2 -> 3.20508 | Z27: =+P27*$V$2 -> 0.0614 | AA27: =+Q27*$V$2 -> 0.0614 | AB27: =+R27*$V$2 -> 0.040524 | AC27: =+S27*$V$2 -> 0.076136 | AD27: 0.004 | AE27: 0.009 | AF27: 0.005
C28: d.5 | D28: ATTIVITA' ZOOTECNICA | E28: 0 | F28: 100 | G28: 8000 | H28: 1000008000 | I28: 1000008000 | J28: 0 | K28: 0.1 | L28: 0.36 | M28: 0.72 | N28: 0 | O28: 26.1 | P28: 0.5 | Q28: 0.5 | R28: 0.33 | S28: 0.62 | U28: =+K28*$V$2 -> 0.01228 | V28: =+L28*$V$2 -> 0.044208 | W28: =+M28*$V$2 -> 0.088416 | Y28: =+O28*$V$2 -> 3.20508 | Z28: =+P28*$V$2 -> 0.0614 | AA28: =+Q28*$V$2 -> 0.0614 | AB28: =+R28*$V$2 -> 0.040524 | AC28: =+S28*$V$2 -> 0.076136 | AD28: 0.004 | AE28: 0.009 | AF28: 0.005
C29: d.6 | D29: ATTIVITA' DI TRASFORMAZIONI PRODOTTI AGRO-ZOOTECNICI | E29: 0 | F29: 100 | G29: 5000 | H29: 1000005000 | I29: 1000005000 | J29: 0 | K29: 0.1 | L29: 0.36 | M29: 0.72 | N29: 0 | O29: 26.1 | P29: 0.5 | Q29: 0.5 | R29: 0.33 | S29: 0.62 | U29: =+K29*$V$2 -> 0.01228 | V29: =+L29*$V$2 -> 0.044208 | W29: =+M29*$V$2 -> 0.088416 | Y29: =+O29*$V$2 -> 3.20508 | Z29: =+P29*$V$2 -> 0.0614 | AA29: =+Q29*$V$2 -> 0.0614 | AB29: =+R29*$V$2 -> 0.040524 | AC29: =+S29*$V$2 -> 0.076136 | AD29: 0.004 | AE29: 0.009 | AF29: 0.005
A30: USO PUBBLICO NON DISALIMENTABILE | B30: UTENZA USO PUBBLICO NON DISALIMENTABILE | C30: e.1 | D30: OSPEDALI | E30: 0 | F30: 80000 | G30: 150000 | H30: 300000 | I30: 100000300000 | J30: 0 | K30: 0.85 | L30: 0.96 | M30: 1.42 | N30: 1.6 | O30: =26.1*2 -> 52.2 | P30: 1 | Q30: 1 | R30: 0.16 | S30: 0.31 | U30: =+K30*$V$2 -> 0.10438 | V30: =+L30*$V$2 -> 0.117888 | W30: =+M30*$V$2 -> 0.174376 | X30: =+N30*$V$2 -> 0.19648 | Y30: =+O30*$V$2 -> 6.41016 | Z30: =+P30*$V$2 -> 0.1228 | AA30: =+Q30*$V$2 -> 0.1228 | AB30: =+R30*$V$2 -> 0.019648 | AC30: =+S30*$V$2 -> 0.038068 | AD30: 0.004 | AE30: 0.009 | AF30: 0.005
C31: e.2 | D31: CASE DI RIPOSO E ASSISTENZA come tutte mix | E31: 0 | F31: 40000 | G31: 50000 | H31: 60000 | I31: 100000 60.000 | J31: 0 | K31: 0.1 | L31: 0.36 | M31: 0.85 | N31: 0.96 | O31: 26.1 | P31: 0.5 | Q31: 0.5 | R31: 0.16 | S31: 0.31 | U31: =+K31*$V$2 -> 0.01228 | V31: =+L31*$V$2 -> 0.044208 | W31: =+M31*$V$2 -> 0.10438 | X31: =+N31*$V$2 -> 0.117888 | Y31: =+O31*$V$2 -> 3.20508 | Z31: =+P31*$V$2 -> 0.0614 | AA31: =+Q31*$V$2 -> 0.0614 | AB31: =+R31*$V$2 -> 0.019648 | AC31: =+S31*$V$2 -> 0.038068 | AD31: 0.004 | AE31: 0.009 | AF31: 0.005
C32: e.3 | D32: PRESIDI DI SICUREZZA (posti di polizia, caserme militari, Vigili del Fuoco, basi protezione civile…) | E32: 0 | F32: 200 | G32: 400 | H32: 800 | I32: 100000800 | J32: 0 | K32: 0.85 | L32: 0.96 | M32: 1.42 | N32: 1.6 | O32: 26.1 | P32: 0.5 | Q32: 0.5 | R32: 0.33 | S32: 0.62 | U32: =+K32*$V$2 -> 0.10438 | V32: =+L32*$V$2 -> 0.117888 | W32: =+M32*$V$2 -> 0.174376 | X32: =+N32*$V$2 -> 0.19648 | Y32: =+O32*$V$2 -> 3.20508 | Z32: =+P32*$V$2 -> 0.0614 | AA32: =+Q32*$V$2 -> 0.0614 | AB32: =+R32*$V$2 -> 0.040524 | AC32: =+S32*$V$2 -> 0.076136 | AD32: 0.004 | AE32: 0.009 | AF32: 0.005
C33: e.4 | D33: carceri | E33: 0 | F33: 1000 | G33: 20000 | H33: 50000 | I33: 10000050000 | J33: 0 | K33: 1.42 | L33: 1.6 | M33: 1.7 | N33: 1.8 | O33: =26.1*2 -> 52.2 | P33: 1 | Q33: 1 | R33: 0.33 | S33: 0.62 | U33: =+K33*$V$2 -> 0.174376 | V33: =+L33*$V$2 -> 0.19648 | W33: =+M33*$V$2 -> 0.20876 | X33: =+N33*$V$2 -> 0.22104 | Y33: =+O33*$V$2 -> 6.41016 | Z33: =+P33*$V$2 -> 0.1228 | AA33: =+Q33*$V$2 -> 0.1228 | AB33: =+R33*$V$2 -> 0.040524 | AC33: =+S33*$V$2 -> 0.076136 | AD33: 0.004 | AE33: 0.009 | AF33: 0.005
C34: e.5 | D34: SCUOLE PUBBLICHE E PRIVATE (asili, scuole di ogni ordine e grado, istituzioni professionali...) | E34: 0 | F34: 6000 | G34: 10000 | H34: 50000 | I34: 10000050000 | J34: 0 | K34: 0.1 | L34: 0.36 | M34: 0.85 | N34: 0.96 | O34: 26.1 | P34: 0.5 | Q34: 0.5 | R34: 0.01 | S34: 0.01 | U34: =+K34*$V$2 -> 0.01228 | V34: =+L34*$V$2 -> 0.044208 | W34: =+M34*$V$2 -> 0.10438 | X34: =+N34*$V$2 -> 0.117888 | Y34: =+O34*$V$2 -> 3.20508 | Z34: =+P34*$V$2 -> 0.0614 | AA34: =+Q34*$V$2 -> 0.0614 | AB34: =+R34*$V$2 -> 0.001228 | AC34: =+S34*$V$2 -> 0.001228 | AD34: 0.004 | AE34: 0.009 | AF34: 0.005
C35: e.6 | D35: CONVITTI (comunità, conventi, centri di accoglienza,...) | E35: 0 | F35: 100 | G35: 200 | H35: 400 | I35: 100000400 | J35: 0 | K35: 0.85 | L35: 0.96 | M35: 1.42 | N35: 1.6 | O35: 26.1 | P35: 0.5 | Q35: 0.5 | R35: 0.16 | S35: 0.31 | U35: =+K35*$V$2 -> 0.10438 | V35: =+L35*$V$2 -> 0.117888 | W35: =+M35*$V$2 -> 0.174376 | X35: =+N35*$V$2 -> 0.19648 | Y35: =+O35*$V$2 -> 3.20508 | Z35: =+P35*$V$2 -> 0.0614 | AA35: =+Q35*$V$2 -> 0.0614 | AB35: =+R35*$V$2 -> 0.019648 | AC35: =+S35*$V$2 -> 0.038068 | AD35: 0.004 | AE35: 0.009 | AF35: 0.005
C36: e.7 | D36: IDRANTI ANTINCENDIO | E36: 0 | F36: 0 | G36: 0 | H36: 0 | I36: 0 | J36: 0 | K36: 0.85 | L36: 0 | M36: 0 | N36: 0 | O36: 41.9 | P36: 0 | Q36: 0 | R36: 0 | S36: 0 | U36: =+K36*$V$2 -> 0.10438 | Y36: =+O36*$V$2 -> 5.14532 | AD36: 0.004 | AE36: 0.009 | AF36: 0.005
A37: USO PUBBLICO DISALIMENTABILE | B37: UTENZA USO PUBBLICO DISALIMENTABILE | C37: f.1 | D37: UFFICI PUBBLICI | E37: 0 | F37: 1000 | G37: 10000 | H37: 50000 | I37: 10000050000 | J37: 0 | K37: 0.1 | L37: 0.36 | M37: 0.85 | N37: 0.96 | O37: 26.1 | P37: 0.5 | Q37: 0.5 | R37: 0.16 | S37: 0.31 | U37: =+K37*$V$2 -> 0.01228 | V37: =+L37*$V$2 -> 0.044208 | W37: =+M37*$V$2 -> 0.10438 | X37: =+N37*$V$2 -> 0.117888 | Y37: =+O37*$V$2 -> 3.20508 | Z37: =+P37*$V$2 -> 0.0614 | AA37: =+Q37*$V$2 -> 0.0614 | AB37: =+R37*$V$2 -> 0.019648 | AC37: =+S37*$V$2 -> 0.038068 | AD37: 0.004 | AE37: 0.009 | AF37: 0.005
C38: f.2 | D38: SALE PUBBLICHE (auditorium, cinema, teatri, luoghi di culto, sale espositive e musei,…) E SEDI ONLUS/ASD/REGOLE | E38: 0 | F38: 100 | G38: 1000 | H38: 5000 | I38: 1000005000 | J38: 0 | K38: 0.1 | L38: 0.36 | M38: 0.85 | N38: 0.96 | O38: 26.1 | P38: 0.5 | Q38: 0.5 | R38: 0.16 | S38: 0.31 | U38: =+K38*$V$2 -> 0.01228 | V38: =+L38*$V$2 -> 0.044208 | W38: =+M38*$V$2 -> 0.10438 | X38: =+N38*$V$2 -> 0.117888 | Y38: =+O38*$V$2 -> 3.20508 | Z38: =+P38*$V$2 -> 0.0614 | AA38: =+Q38*$V$2 -> 0.0614 | AB38: =+R38*$V$2 -> 0.019648 | AC38: =+S38*$V$2 -> 0.038068 | AD38: 0.004 | AE38: 0.009 | AF38: 0.005
C39: f.3 | D39: IMPIANTI SPORTIVI DI NUOTO (con allaccio per piscina) | E39: 0 | F39: 80000 | G39: 100000 | H39: 120000 | I39: 100000120000 | J39: 0 | K39: 0.01 | L39: 0.1 | M39: 0.36 | N39: 0.85 | O39: =26.1*2 -> 52.2 | P39: 1 | Q39: 1 | R39: 0.01 | S39: 0.01 | U39: =+K39*$V$2 -> 0.001228 | V39: =+L39*$V$2 -> 0.01228 | W39: =+M39*$V$2 -> 0.044208 | X39: =+N39*$V$2 -> 0.10438 | Y39: =+O39*$V$2 -> 6.41016 | Z39: =+P39*$V$2 -> 0.1228 | AA39: =+Q39*$V$2 -> 0.1228 | AB39: =+R39*$V$2 -> 0.001228 | AC39: =+S39*$V$2 -> 0.001228 | AD39: 0.004 | AE39: 0.009 | AF39: 0.005
C40: f.4 | D40: IMPIANTI SPORTIVI INVERNALI DEL GHIACCIO (con allaccio per ghiaccio) | E40: 0 | F40: 20000 | G40: 22000 | H40: 25000 | I40: 10000025000 | J40: 0 | K40: 0.01 | L40: 0.1 | M40: 0.36 | N40: 0.85 | O40: 26.1 | P40: 0.5 | Q40: 0.5 | R40: 0.01 | S40: 0.01 | U40: =+K40*$V$2 -> 0.001228 | V40: =+L40*$V$2 -> 0.01228 | W40: =+M40*$V$2 -> 0.044208 | X40: =+N40*$V$2 -> 0.10438 | Y40: =+O40*$V$2 -> 3.20508 | Z40: =+P40*$V$2 -> 0.0614 | AA40: =+Q40*$V$2 -> 0.0614 | AB40: =+R40*$V$2 -> 0.001228 | AC40: =+S40*$V$2 -> 0.001228 | AD40: 0.004 | AE40: 0.009 | AF40: 0.005
...
